BEGIN:VCALENDAR
VERSION:2.0
PRODID:SchoolNow
CALSCALE:GREGORIAN
BEGIN:VEVENT
UID:e78603f8-1cf9-11f1-994a-0afff976ee3b
DTSTAMP:20260424T115508Z
SUMMARY:Fastpitch Softball VS Eastmont
URL;VALUE=URI:https://www.wenatcheeschools.org/whs/athletics/calendar/89089
 00/fastpitch-softball-vs-eastmont
DTSTART:20260327T230000Z
DTEND:20260328T023000Z
END:VEVENT
END:VCALENDAR
