BEGIN:VCALENDAR
VERSION:2.0
PRODID:SchoolNow
CALSCALE:GREGORIAN
BEGIN:VEVENT
UID:e786054c-1cf9-11f1-a365-0afff976ee3b
DTSTAMP:20260424T115508Z
SUMMARY:Tennis VS Eastmont
URL;VALUE=URI:https://www.wenatcheeschools.org/whs/athletics/calendar/89089
 01/tennis-vs-eastmont
DTSTART:20260323T220000Z
DTEND:20260324T010000Z
END:VEVENT
END:VCALENDAR
