BEGIN:VCALENDAR
VERSION:2.0
PRODID:SchoolNow
CALSCALE:GREGORIAN
BEGIN:VEVENT
UID:e7860632-1cf9-11f1-9800-0afff976ee3b
DTSTAMP:20260424T115508Z
SUMMARY:Tennis VS Eisenhower
URL;VALUE=URI:https://www.wenatcheeschools.org/whs/athletics/calendar/89089
 02/tennis-vs-eisenhower
DTSTART:20260331T220000Z
DTEND:20260401T010000Z
END:VEVENT
END:VCALENDAR
