BEGIN:VCALENDAR
VERSION:2.0
PRODID:SchoolNow
CALSCALE:GREGORIAN
BEGIN:VEVENT
UID:e786074a-1cf9-11f1-a528-0afff976ee3b
DTSTAMP:20260424T115508Z
SUMMARY:Tennis VS Southridge
URL;VALUE=URI:https://www.wenatcheeschools.org/whs/athletics/calendar/89089
 03/tennis-vs-southridge
DTSTART:20260314T170000Z
DTEND:20260314T200000Z
END:VEVENT
END:VCALENDAR
