BEGIN:VCALENDAR
VERSION:2.0
PRODID:SchoolNow
CALSCALE:GREGORIAN
BEGIN:VEVENT
UID:e786084e-1cf9-11f1-bb0e-0afff976ee3b
DTSTAMP:20260424T115508Z
SUMMARY:Tennis VS Seattle Prep\, Mead
URL;VALUE=URI:https://www.wenatcheeschools.org/whs/athletics/calendar/89089
 04/tennis-vs-seattle-prep-mead
DTSTART:20260321T170000Z
DTEND:20260321T200000Z
END:VEVENT
END:VCALENDAR
