BEGIN:VCALENDAR
VERSION:2.0
PRODID:SchoolNow
CALSCALE:GREGORIAN
BEGIN:VEVENT
UID:d2fc08ce-3842-11f1-900d-0a58a9feac02
DTSTAMP:20260424T055028Z
SUMMARY:Track & Field VS Eastmont
URL;VALUE=URI:https://www.wenatcheeschools.org/whs/athletics/calendar/89939
 88/track-field-vs-eastmont
DTSTART:20260416T230000Z
DTEND:20260417T020000Z
END:VEVENT
END:VCALENDAR
