BEGIN:VCALENDAR
VERSION:2.0
PRODID:SchoolNow
CALSCALE:GREGORIAN
BEGIN:VEVENT
UID:d2fc0b80-3842-11f1-8d71-0a58a9feac02
DTSTAMP:20260424T055028Z
SUMMARY:Unified Soccer VS Moses Lake
URL;VALUE=URI:https://www.wenatcheeschools.org/whs/athletics/calendar/89939
 89/unified-soccer-vs-moses-lake
DTSTART:20260416T233000Z
DTEND:20260417T003000Z
END:VEVENT
END:VCALENDAR
