BEGIN:VCALENDAR
VERSION:2.0
PRODID:SchoolNow
CALSCALE:GREGORIAN
BEGIN:VEVENT
UID:d2fc0ca2-3842-11f1-a06a-0a58a9feac02
DTSTAMP:20260424T055028Z
SUMMARY:V Boys Golf VS AC Davis
URL;VALUE=URI:https://www.wenatcheeschools.org/whs/athletics/calendar/89939
 90/v-boys-golf-vs-ac-davis
DTSTART:20260420T200000Z
DTEND:20260421T000000Z
END:VEVENT
END:VCALENDAR
