BEGIN:VCALENDAR
VERSION:2.0
PRODID:SchoolNow
CALSCALE:GREGORIAN
BEGIN:VEVENT
UID:d2fc0d9c-3842-11f1-a578-0a58a9feac02
DTSTAMP:20260424T055028Z
SUMMARY:JV Girls Golf @ Moses Lake
URL;VALUE=URI:https://www.wenatcheeschools.org/whs/athletics/calendar/89939
 91/jv-girls-golf-moses-lake
DTSTART:20260406T160000Z
DTEND:20260406T203000Z
END:VEVENT
END:VCALENDAR
