BEGIN:VCALENDAR
VERSION:2.0
PRODID:SchoolNow
CALSCALE:GREGORIAN
BEGIN:VEVENT
UID:d2fc0e8c-3842-11f1-b03f-0a58a9feac02
DTSTAMP:20260424T055028Z
SUMMARY:Unified Soccer @ Othello
URL;VALUE=URI:https://www.wenatcheeschools.org/whs/athletics/calendar/89939
 92/unified-soccer-othello
DTSTART:20260430T000000Z
DTEND:20260430T010000Z
END:VEVENT
END:VCALENDAR
