BEGIN:VCALENDAR
VERSION:2.0
PRODID:SchoolNow
CALSCALE:GREGORIAN
BEGIN:VEVENT
UID:d2fc0f72-3842-11f1-b858-0a58a9feac02
DTSTAMP:20260424T055028Z
SUMMARY:V Girls Golf @ Eastmont
URL;VALUE=URI:https://www.wenatcheeschools.org/whs/athletics/calendar/89939
 93/v-girls-golf-eastmont
DTSTART:20260416T180000Z
DTEND:20260416T230000Z
END:VEVENT
END:VCALENDAR
