BEGIN:VCALENDAR
VERSION:2.0
PRODID:SchoolNow
CALSCALE:GREGORIAN
BEGIN:VEVENT
UID:d2fc1134-3842-11f1-a926-0a58a9feac02
DTSTAMP:20260424T055028Z
SUMMARY:C Baseball VS Cashmere
URL;VALUE=URI:https://www.wenatcheeschools.org/whs/athletics/calendar/89939
 95/c-baseball-vs-cashmere
DTSTART:20260421T230000Z
DTEND:20260422T010000Z
END:VEVENT
END:VCALENDAR
