BEGIN:VCALENDAR
VERSION:2.0
PRODID:SchoolNow
CALSCALE:GREGORIAN
BEGIN:VEVENT
UID:d2fc1210-3842-11f1-9e2d-0a58a9feac02
DTSTAMP:20260424T055028Z
SUMMARY:Tennis VS West Valley
URL;VALUE=URI:https://www.wenatcheeschools.org/whs/athletics/calendar/89939
 96/tennis-vs-west-valley
DTSTART:20260428T220000Z
DTEND:20260429T010000Z
END:VEVENT
END:VCALENDAR
