BEGIN:VCALENDAR
VERSION:2.0
PRODID:SchoolNow
CALSCALE:GREGORIAN
BEGIN:VEVENT
UID:d2fc12ec-3842-11f1-a5ae-0a58a9feac02
DTSTAMP:20260424T055028Z
SUMMARY:Tennis VS AC Davis
URL;VALUE=URI:https://www.wenatcheeschools.org/whs/athletics/calendar/89939
 97/tennis-vs-ac-davis
DTSTART:20260416T180000Z
DTEND:20260417T010000Z
END:VEVENT
END:VCALENDAR
