BEGIN:VCALENDAR
VERSION:2.0
PRODID:SchoolNow
CALSCALE:GREGORIAN
BEGIN:VEVENT
UID:d2fc13c8-3842-11f1-8e68-0a58a9feac02
DTSTAMP:20260424T055028Z
SUMMARY:V Girls Golf VS AC Davis
URL;VALUE=URI:https://www.wenatcheeschools.org/whs/athletics/calendar/89939
 98/v-girls-golf-vs-ac-davis
DTSTART:20260427T200000Z
DTEND:20260428T000000Z
END:VEVENT
END:VCALENDAR
