BEGIN:VCALENDAR
VERSION:2.0
PRODID:SchoolNow
CALSCALE:GREGORIAN
BEGIN:VEVENT
UID:d2fc14a4-3842-11f1-b179-0a58a9feac02
DTSTAMP:20260424T055028Z
SUMMARY:V Boys Golf VS Moses Lake
URL;VALUE=URI:https://www.wenatcheeschools.org/whs/athletics/calendar/89939
 99/v-boys-golf-vs-moses-lake
DTSTART:20260406T170000Z
DTEND:20260406T210000Z
END:VEVENT
END:VCALENDAR
