BEGIN:VCALENDAR
VERSION:2.0
PRODID:SchoolNow
CALSCALE:GREGORIAN
BEGIN:VEVENT
UID:d2fc1580-3842-11f1-9497-0a58a9feac02
DTSTAMP:20260424T055028Z
SUMMARY:Track & Field @ Moses Lake
URL;VALUE=URI:https://www.wenatcheeschools.org/whs/athletics/calendar/89940
 00/track-field-moses-lake
DTSTART:20260430T223000Z
DTEND:20260501T013000Z
END:VEVENT
END:VCALENDAR
