BEGIN:VCALENDAR
VERSION:2.0
PRODID:SchoolNow
CALSCALE:GREGORIAN
BEGIN:VEVENT
UID:d2fc1652-3842-11f1-8639-0a58a9feac02
DTSTAMP:20260424T055028Z
SUMMARY:V Girls Golf @ Moses Lake
URL;VALUE=URI:https://www.wenatcheeschools.org/whs/athletics/calendar/89940
 01/v-girls-golf-moses-lake
DTSTART:20260421T180000Z
DTEND:20260421T230000Z
END:VEVENT
END:VCALENDAR
