BEGIN:VCALENDAR
VERSION:2.0
PRODID:SchoolNow
CALSCALE:GREGORIAN
BEGIN:VEVENT
UID:d2fc172e-3842-11f1-a225-0a58a9feac02
DTSTAMP:20260424T055028Z
SUMMARY:JV Boys Golf @ Sunnyside
URL;VALUE=URI:https://www.wenatcheeschools.org/whs/athletics/calendar/89940
 02/jv-boys-golf-sunnyside
DTSTART:20260430T210000Z
DTEND:20260501T010000Z
END:VEVENT
END:VCALENDAR
