BEGIN:VCALENDAR
VERSION:2.0
PRODID:SchoolNow
CALSCALE:GREGORIAN
BEGIN:VEVENT
UID:d2fc1800-3842-11f1-81eb-0a58a9feac02
DTSTAMP:20260424T055028Z
SUMMARY:V Baseball VS Eisenhower
URL;VALUE=URI:https://www.wenatcheeschools.org/whs/athletics/calendar/89940
 03/v-baseball-vs-eisenhower
DTSTART:20260408T000000Z
DTEND:20260408T020000Z
END:VEVENT
END:VCALENDAR
