BEGIN:VCALENDAR
VERSION:2.0
PRODID:SchoolNow
CALSCALE:GREGORIAN
BEGIN:VEVENT
UID:d2fc1986-3842-11f1-9ea6-0a58a9feac02
DTSTAMP:20260424T055028Z
SUMMARY:JV/V Boys Soccer @ West Valley
URL;VALUE=URI:https://www.wenatcheeschools.org/whs/athletics/calendar/89940
 04/jv-v-boys-soccer-west-valley
DTSTART:20260425T000000Z
DTEND:20260425T040000Z
END:VEVENT
END:VCALENDAR
