BEGIN:VCALENDAR
VERSION:2.0
PRODID:SchoolNow
CALSCALE:GREGORIAN
BEGIN:VEVENT
UID:d2fc1a62-3842-11f1-8b91-0a58a9feac02
DTSTAMP:20260424T055028Z
SUMMARY:JV/V Boys Golf @ Eastmont
URL;VALUE=URI:https://www.wenatcheeschools.org/whs/athletics/calendar/89940
 05/jv-v-boys-golf-eastmont
DTSTART:20260415T200000Z
DTEND:20260416T010000Z
END:VEVENT
END:VCALENDAR
