BEGIN:VCALENDAR
VERSION:2.0
PRODID:SchoolNow
CALSCALE:GREGORIAN
BEGIN:VEVENT
UID:d2fc1b3e-3842-11f1-a1dc-0a58a9feac02
DTSTAMP:20260424T055028Z
SUMMARY:C Boys Soccer @ Othello
URL;VALUE=URI:https://www.wenatcheeschools.org/whs/athletics/calendar/89940
 06/c-boys-soccer-othello
DTSTART:20260428T230000Z
DTEND:20260429T000000Z
END:VEVENT
END:VCALENDAR
