BEGIN:VCALENDAR
VERSION:2.0
PRODID:SchoolNow
CALSCALE:GREGORIAN
BEGIN:VEVENT
UID:d2fc1c7e-3842-11f1-8e36-0a58a9feac02
DTSTAMP:20260424T115508Z
SUMMARY:V Baseball @ AC Davis
URL;VALUE=URI:https://www.wenatcheeschools.org/whs/athletics/calendar/89940
 07/v-baseball-ac-davis
DTSTART:20260502T010000Z
DTEND:20260502T030000Z
END:VEVENT
END:VCALENDAR
