BEGIN:VCALENDAR
VERSION:2.0
PRODID:SchoolNow
CALSCALE:GREGORIAN
BEGIN:VEVENT
UID:d2fc1d50-3842-11f1-baa0-0a58a9feac02
DTSTAMP:20260424T055028Z
SUMMARY:JV Girls Golf VS Cashmere
URL;VALUE=URI:https://www.wenatcheeschools.org/whs/athletics/calendar/89940
 08/jv-girls-golf-vs-cashmere
DTSTART:20260430T210000Z
DTEND:20260501T010000Z
END:VEVENT
END:VCALENDAR
