BEGIN:VCALENDAR
VERSION:2.0
PRODID:SchoolNow
CALSCALE:GREGORIAN
BEGIN:VEVENT
UID:d2fc1e22-3842-11f1-a0d6-0a58a9feac02
DTSTAMP:20260424T055028Z
SUMMARY:JV/V Boys Soccer @ Sunnyside
URL;VALUE=URI:https://www.wenatcheeschools.org/whs/athletics/calendar/89940
 09/jv-v-boys-soccer-sunnyside
DTSTART:20260415T000000Z
DTEND:20260415T033000Z
END:VEVENT
END:VCALENDAR
