BEGIN:VCALENDAR
VERSION:2.0
PRODID:SchoolNow
CALSCALE:GREGORIAN
BEGIN:VEVENT
UID:d2fc1ef4-3842-11f1-bdf4-0a58a9feac02
DTSTAMP:20260424T055028Z
SUMMARY:V Baseball @ Moses Lake
URL;VALUE=URI:https://www.wenatcheeschools.org/whs/athletics/calendar/89940
 10/v-baseball-moses-lake
DTSTART:20260414T230000Z
DTEND:20260415T010000Z
END:VEVENT
END:VCALENDAR
