BEGIN:VCALENDAR
VERSION:2.0
PRODID:SchoolNow
CALSCALE:GREGORIAN
BEGIN:VEVENT
UID:d2fc1fc6-3842-11f1-bd8a-0a58a9feac02
DTSTAMP:20260424T055028Z
SUMMARY:C/JV/V Boys Soccer VS Eisenhower
URL;VALUE=URI:https://www.wenatcheeschools.org/whs/athletics/calendar/89940
 11/c-jv-v-boys-soccer-vs-eisenhower
DTSTART:20260411T000000Z
DTEND:20260411T040000Z
END:VEVENT
END:VCALENDAR
