BEGIN:VCALENDAR
VERSION:2.0
PRODID:SchoolNow
CALSCALE:GREGORIAN
BEGIN:VEVENT
UID:d2fc2098-3842-11f1-97cc-0a58a9feac02
DTSTAMP:20260424T055028Z
SUMMARY:C Boys Soccer VS Cashmere
URL;VALUE=URI:https://www.wenatcheeschools.org/whs/athletics/calendar/89940
 12/c-boys-soccer-vs-cashmere
DTSTART:20260421T010000Z
DTEND:20260421T030000Z
END:VEVENT
END:VCALENDAR
