BEGIN:VCALENDAR
VERSION:2.0
PRODID:SchoolNow
CALSCALE:GREGORIAN
BEGIN:VEVENT
UID:d2fc2174-3842-11f1-a1d3-0a58a9feac02
DTSTAMP:20260424T055028Z
SUMMARY:JV Baseball @ Eisenhower
URL;VALUE=URI:https://www.wenatcheeschools.org/whs/athletics/calendar/89940
 13/jv-baseball-eisenhower
DTSTART:20260408T230000Z
DTEND:20260409T010000Z
END:VEVENT
END:VCALENDAR
