BEGIN:VCALENDAR
VERSION:2.0
PRODID:SchoolNow
CALSCALE:GREGORIAN
BEGIN:VEVENT
UID:d2fc22dc-3842-11f1-bc0c-0a58a9feac02
DTSTAMP:20260424T055028Z
SUMMARY:Track & Field @ Lake Stevens
URL;VALUE=URI:https://www.wenatcheeschools.org/whs/athletics/calendar/89940
 14/track-field-lake-stevens
DTSTART:20260418T190000Z
DTEND:20260418T230000Z
END:VEVENT
END:VCALENDAR
