BEGIN:VCALENDAR
VERSION:2.0
PRODID:SchoolNow
CALSCALE:GREGORIAN
BEGIN:VEVENT
UID:d2fc23b8-3842-11f1-b464-0a58a9feac02
DTSTAMP:20260424T055028Z
SUMMARY:C/JV/V Boys Soccer VS AC Davis
URL;VALUE=URI:https://www.wenatcheeschools.org/whs/athletics/calendar/89940
 15/c-jv-v-boys-soccer-vs-ac-davis
DTSTART:20260418T000000Z
DTEND:20260418T040000Z
END:VEVENT
END:VCALENDAR
