BEGIN:VCALENDAR
VERSION:2.0
PRODID:SchoolNow
CALSCALE:GREGORIAN
BEGIN:VEVENT
UID:d2fc2494-3842-11f1-980f-0a58a9feac02
DTSTAMP:20260424T115508Z
SUMMARY:V Boys Baseball @ AC Davis
URL;VALUE=URI:https://www.wenatcheeschools.org/whs/athletics/calendar/89940
 16/v-boys-baseball-ac-davis
DTSTART:20260501T230000Z
DTEND:20260502T010000Z
END:VEVENT
END:VCALENDAR
