BEGIN:VCALENDAR
VERSION:2.0
PRODID:SchoolNow
CALSCALE:GREGORIAN
BEGIN:VEVENT
UID:d2fc2570-3842-11f1-9896-0a58a9feac02
DTSTAMP:20260424T055028Z
SUMMARY:Tennis @ Sunnyside
URL;VALUE=URI:https://www.wenatcheeschools.org/whs/athletics/calendar/89940
 17/tennis-sunnyside
DTSTART:20260414T220000Z
DTEND:20260415T000000Z
END:VEVENT
END:VCALENDAR
