BEGIN:VCALENDAR
VERSION:2.0
PRODID:SchoolNow
CALSCALE:GREGORIAN
BEGIN:VEVENT
UID:d2fc270a-3842-11f1-9bbe-0a58a9feac02
DTSTAMP:20260424T055028Z
SUMMARY:Tennis VS Casecade HS
URL;VALUE=URI:https://www.wenatcheeschools.org/whs/athletics/calendar/89940
 18/tennis-vs-casecade-hs
DTSTART:20260424T230000Z
DTEND:20260425T020000Z
END:VEVENT
END:VCALENDAR
