BEGIN:VCALENDAR
VERSION:2.0
PRODID:SchoolNow
CALSCALE:GREGORIAN
BEGIN:VEVENT
UID:d2fc27f0-3842-11f1-9a36-0a58a9feac02
DTSTAMP:20260424T055028Z
SUMMARY:C Boys Soccer @ Omak
URL;VALUE=URI:https://www.wenatcheeschools.org/whs/athletics/calendar/89940
 19/c-boys-soccer-omak
DTSTART:20260423T230000Z
DTEND:20260424T003000Z
END:VEVENT
END:VCALENDAR
