BEGIN:VCALENDAR
VERSION:2.0
PRODID:SchoolNow
CALSCALE:GREGORIAN
BEGIN:VEVENT
UID:d2fc28cc-3842-11f1-a305-0a58a9feac02
DTSTAMP:20260424T115508Z
SUMMARY:C/JV/V Boys Soccer @ Eisenhower
URL;VALUE=URI:https://www.wenatcheeschools.org/whs/athletics/calendar/89940
 20/c-jv-v-boys-soccer-eisenhower
DTSTART:20260502T000000Z
DTEND:20260502T033000Z
END:VEVENT
END:VCALENDAR
