BEGIN:VCALENDAR
VERSION:2.0
PRODID:SchoolNow
CALSCALE:GREGORIAN
BEGIN:VEVENT
UID:d2fc29a8-3842-11f1-802a-0a58a9feac02
DTSTAMP:20260424T055028Z
SUMMARY:V Girls Golf @ Eisenhower
URL;VALUE=URI:https://www.wenatcheeschools.org/whs/athletics/calendar/89940
 21/v-girls-golf-eisenhower
DTSTART:20260414T170000Z
DTEND:20260414T210000Z
END:VEVENT
END:VCALENDAR
