BEGIN:VCALENDAR
VERSION:2.0
PRODID:SchoolNow
CALSCALE:GREGORIAN
BEGIN:VEVENT
UID:d2fc2a84-3842-11f1-8e99-0a58a9feac02
DTSTAMP:20260424T115508Z
SUMMARY:JV Baseball VS AC Davis
URL;VALUE=URI:https://www.wenatcheeschools.org/whs/athletics/calendar/89940
 22/jv-baseball-vs-ac-davis
DTSTART:20260502T210000Z
DTEND:20260503T010000Z
END:VEVENT
END:VCALENDAR
