BEGIN:VCALENDAR
VERSION:2.0
PRODID:SchoolNow
CALSCALE:GREGORIAN
BEGIN:VEVENT
UID:d2fc2b60-3842-11f1-a913-0a58a9feac02
DTSTAMP:20260424T055028Z
SUMMARY:C/JV Baseball VS Moses Lake
URL;VALUE=URI:https://www.wenatcheeschools.org/whs/athletics/calendar/89940
 23/c-jv-baseball-vs-moses-lake
DTSTART:20260415T230000Z
DTEND:20260416T020000Z
END:VEVENT
END:VCALENDAR
