BEGIN:VCALENDAR
VERSION:2.0
PRODID:SchoolNow
CALSCALE:GREGORIAN
BEGIN:VEVENT
UID:d2fc2c3c-3842-11f1-a286-0a58a9feac02
DTSTAMP:20260424T055028Z
SUMMARY:JV Tennis @ Entiat
URL;VALUE=URI:https://www.wenatcheeschools.org/whs/athletics/calendar/89940
 24/jv-tennis-entiat
DTSTART:20260430T220000Z
DTEND:20260501T000000Z
END:VEVENT
END:VCALENDAR
