BEGIN:VCALENDAR
VERSION:2.0
PRODID:SchoolNow
CALSCALE:GREGORIAN
BEGIN:VEVENT
UID:d2fc2d18-3842-11f1-af75-0a58a9feac02
DTSTAMP:20260424T055028Z
SUMMARY:JV/V Fastpitch Softball @ Moses Lake
URL;VALUE=URI:https://www.wenatcheeschools.org/whs/athletics/calendar/89940
 25/jv-v-fastpitch-softball-moses-lake
DTSTART:20260417T223000Z
DTEND:20260418T000000Z
END:VEVENT
END:VCALENDAR
