BEGIN:VCALENDAR
VERSION:2.0
PRODID:SchoolNow
CALSCALE:GREGORIAN
BEGIN:VEVENT
UID:d2fc2df4-3842-11f1-b094-0a58a9feac02
DTSTAMP:20260424T055028Z
SUMMARY:C/JV/V Soccer @ Eastmont
URL;VALUE=URI:https://www.wenatcheeschools.org/whs/athletics/calendar/89940
 26/c-jv-v-soccer-eastmont
DTSTART:20260408T000000Z
DTEND:20260408T033000Z
END:VEVENT
END:VCALENDAR
