BEGIN:VCALENDAR
VERSION:2.0
PRODID:SchoolNow
CALSCALE:GREGORIAN
BEGIN:VEVENT
UID:d2fc2ed0-3842-11f1-9462-0a58a9feac02
DTSTAMP:20260424T055028Z
SUMMARY:V Boys Golf @ AC Davis
URL;VALUE=URI:https://www.wenatcheeschools.org/whs/athletics/calendar/89940
 27/v-boys-golf-ac-davis
DTSTART:20260427T180000Z
DTEND:20260427T220000Z
END:VEVENT
END:VCALENDAR
