BEGIN:VCALENDAR
VERSION:2.0
PRODID:SchoolNow
CALSCALE:GREGORIAN
BEGIN:VEVENT
UID:d2fc2fac-3842-11f1-8c5e-0a58a9feac02
DTSTAMP:20260424T055028Z
SUMMARY:JV/V Baseball VS Stanwood
URL;VALUE=URI:https://www.wenatcheeschools.org/whs/athletics/calendar/89940
 28/jv-v-baseball-vs-stanwood
DTSTART:20260424T210000Z
DTEND:20260425T010000Z
END:VEVENT
END:VCALENDAR
