BEGIN:VCALENDAR
VERSION:2.0
PRODID:SchoolNow
CALSCALE:GREGORIAN
BEGIN:VEVENT
UID:d2fc3088-3842-11f1-b685-0a58a9feac02
DTSTAMP:20260424T055028Z
SUMMARY:C/JV Baseball @ Moses Lake
URL;VALUE=URI:https://www.wenatcheeschools.org/whs/athletics/calendar/89940
 29/c-jv-baseball-moses-lake
DTSTART:20260418T180000Z
DTEND:20260418T220000Z
END:VEVENT
END:VCALENDAR
