BEGIN:VCALENDAR
VERSION:2.0
PRODID:SchoolNow
CALSCALE:GREGORIAN
BEGIN:VEVENT
UID:d2fc32c2-3842-11f1-a65f-0a58a9feac02
DTSTAMP:20260424T055028Z
SUMMARY:V Boys Golf @ Moses Lake
URL;VALUE=URI:https://www.wenatcheeschools.org/whs/athletics/calendar/89940
 30/v-boys-golf-moses-lake
DTSTART:20260413T180000Z
DTEND:20260413T230000Z
END:VEVENT
END:VCALENDAR
