BEGIN:VCALENDAR
VERSION:2.0
PRODID:SchoolNow
CALSCALE:GREGORIAN
BEGIN:VEVENT
UID:d2fc3416-3842-11f1-a000-0a58a9feac02
DTSTAMP:20260424T055028Z
SUMMARY:C/JV/V Boys Soccer VS Moses Lake
URL;VALUE=URI:https://www.wenatcheeschools.org/whs/athletics/calendar/89940
 31/c-jv-v-boys-soccer-vs-moses-lake
DTSTART:20260429T000000Z
DTEND:20260429T040000Z
END:VEVENT
END:VCALENDAR
