BEGIN:VCALENDAR
VERSION:2.0
PRODID:SchoolNow
CALSCALE:GREGORIAN
BEGIN:VEVENT
UID:d2fc34f2-3842-11f1-bca2-0a58a9feac02
DTSTAMP:20260424T055028Z
SUMMARY:Track & Field @ Eastmont
URL;VALUE=URI:https://www.wenatcheeschools.org/whs/athletics/calendar/89940
 32/track-field-eastmont
DTSTART:20260423T230000Z
DTEND:20260424T020000Z
END:VEVENT
END:VCALENDAR
