BEGIN:VCALENDAR
VERSION:2.0
PRODID:SchoolNow
CALSCALE:GREGORIAN
BEGIN:VEVENT
UID:d2fc35ce-3842-11f1-a0ba-0a58a9feac02
DTSTAMP:20260424T055028Z
SUMMARY:V Baseball @ Eisenhower
URL;VALUE=URI:https://www.wenatcheeschools.org/whs/athletics/calendar/89940
 33/v-baseball-eisenhower
DTSTART:20260410T230000Z
DTEND:20260411T023000Z
END:VEVENT
END:VCALENDAR
